BEGIN:VCALENDAR
VERSION:2.0
PRODID:-//Kiran - ECPv6.15.20//NONSGML v1.0//EN
CALSCALE:GREGORIAN
METHOD:PUBLISH
X-WR-CALNAME:Kiran
X-ORIGINAL-URL:https://kiraninc.org
X-WR-CALDESC:Events for Kiran
REFRESH-INTERVAL;VALUE=DURATION:PT1H
X-Robots-Tag:noindex
X-PUBLISHED-TTL:PT1H
BEGIN:VTIMEZONE
TZID:America/Halifax
BEGIN:DAYLIGHT
TZOFFSETFROM:-0400
TZOFFSETTO:-0300
TZNAME:ADT
DTSTART:20240310T060000
END:DAYLIGHT
BEGIN:STANDARD
TZOFFSETFROM:-0300
TZOFFSETTO:-0400
TZNAME:AST
DTSTART:20241103T050000
END:STANDARD
BEGIN:DAYLIGHT
TZOFFSETFROM:-0400
TZOFFSETTO:-0300
TZNAME:ADT
DTSTART:20250309T060000
END:DAYLIGHT
BEGIN:STANDARD
TZOFFSETFROM:-0300
TZOFFSETTO:-0400
TZNAME:AST
DTSTART:20251102T050000
END:STANDARD
BEGIN:DAYLIGHT
TZOFFSETFROM:-0400
TZOFFSETTO:-0300
TZNAME:ADT
DTSTART:20260308T060000
END:DAYLIGHT
BEGIN:STANDARD
TZOFFSETFROM:-0300
TZOFFSETTO:-0400
TZNAME:AST
DTSTART:20261101T050000
END:STANDARD
END:VTIMEZONE
BEGIN:VEVENT
DTSTART;TZID=America/Halifax:20250625T180000
DTEND;TZID=America/Halifax:20250625T190000
DTSTAMP:20260423T114405
CREATED:20250611T151516Z
LAST-MODIFIED:20250625T204642Z
UID:24959-1750874400-1750878000@kiraninc.org
SUMMARY:Speaker Series: Family Law with Attorney Theresa Viera
DESCRIPTION:We are excited to have Attorney Theresa Viera for this month’s Speaker Series on June 25th from 6 to 7 PM. Register now at bit.ly/junespeaker2025 to hear her insights on Family Law!\n\n\n\nSpeaker Bio: Theresa is a licensed Family Law Attorney\, Arbitrator and Mediator in the state of NC. She is the founder of Modern Legal\, a law office located in Charlotte and Gastonia. Her childhood experiences of domestic violence motivated her to pursue family law and advocate for families and survivors. She became the first lawyer in her family after attending George Washington University and University of North Carolina School of Law in Chapel Hill. Theresa’s associations include American Bar Association\, Family Law Section; North Carolina State Bar; 26th Judicial District Bar/Mecklenburg County Bar Association\, Family Law Section; Former Chair of the Mecklenburg County Bar Family Law Section; and Former Playing for Others Board Chair.
URL:https://kiraninc.org/event/speaker-series-family-law-with-attorney-theresa-viera/
CATEGORIES:Speaker Series
ATTACH;FMTTYPE=image/jpeg:https://kiraninc.org/wp-content/uploads/2025/06/Theresa-Speaker-Series-June-2025.jpg
ORGANIZER;CN="Kiran":MAILTO:kiran@kiraninc.org
END:VEVENT
END:VCALENDAR