BEGIN:VCALENDAR
VERSION:2.0
PRODID:-//Kiran - ECPv6.15.20//NONSGML v1.0//EN
CALSCALE:GREGORIAN
METHOD:PUBLISH
X-WR-CALNAME:Kiran
X-ORIGINAL-URL:https://kiraninc.org
X-WR-CALDESC:Events for Kiran
REFRESH-INTERVAL;VALUE=DURATION:PT1H
X-Robots-Tag:noindex
X-PUBLISHED-TTL:PT1H
BEGIN:VTIMEZONE
TZID:America/Halifax
BEGIN:DAYLIGHT
TZOFFSETFROM:-0400
TZOFFSETTO:-0300
TZNAME:ADT
DTSTART:20230312T060000
END:DAYLIGHT
BEGIN:STANDARD
TZOFFSETFROM:-0300
TZOFFSETTO:-0400
TZNAME:AST
DTSTART:20231105T050000
END:STANDARD
BEGIN:DAYLIGHT
TZOFFSETFROM:-0400
TZOFFSETTO:-0300
TZNAME:ADT
DTSTART:20240310T060000
END:DAYLIGHT
BEGIN:STANDARD
TZOFFSETFROM:-0300
TZOFFSETTO:-0400
TZNAME:AST
DTSTART:20241103T050000
END:STANDARD
BEGIN:DAYLIGHT
TZOFFSETFROM:-0400
TZOFFSETTO:-0300
TZNAME:ADT
DTSTART:20250309T060000
END:DAYLIGHT
BEGIN:STANDARD
TZOFFSETFROM:-0300
TZOFFSETTO:-0400
TZNAME:AST
DTSTART:20251102T050000
END:STANDARD
BEGIN:DAYLIGHT
TZOFFSETFROM:-0400
TZOFFSETTO:-0300
TZNAME:ADT
DTSTART:20260308T060000
END:DAYLIGHT
BEGIN:STANDARD
TZOFFSETFROM:-0300
TZOFFSETTO:-0400
TZNAME:AST
DTSTART:20261101T050000
END:STANDARD
BEGIN:DAYLIGHT
TZOFFSETFROM:-0400
TZOFFSETTO:-0300
TZNAME:ADT
DTSTART:20270314T060000
END:DAYLIGHT
BEGIN:STANDARD
TZOFFSETFROM:-0300
TZOFFSETTO:-0400
TZNAME:AST
DTSTART:20271107T050000
END:STANDARD
END:VTIMEZONE
BEGIN:VEVENT
DTSTART;TZID=America/Halifax:20260419T090000
DTEND;TZID=America/Halifax:20260419T120000
DTSTAMP:20260423T064812
CREATED:20260226T195331Z
LAST-MODIFIED:20260312T142343Z
UID:26313-1776589200-1776600000@kiraninc.org
SUMMARY:RDU Heroes for Hope Walkathon 2026
DESCRIPTION:Every year\, Kiran hosts the “Heroes for Hope” Walkathon to raise awareness and funds for domestic violence services. As the only agency in North Carolina serving South Asian survivors\, we are in a unique position to provide culturally sensitive services for our clients and support/complement the services provided by mainstream domestic violence agencies to South Asian clients. \nCome join us at the Kiwanis Shelter at Bond Park in Cary\, NC! Check in is at 9 AM and we will begin walking at 10 AM. There will be an exciting warm-up\, performances\, Henna\, and T-Shirts! \nYou can walk\, run\, hike; whatever you choose to do\, be sure to share your pictures on social media and tag Kiran! We have treats for all to enjoy\, as we raise awareness and funds for survivors of domestic violence\, sexual assault and human trafficking. \nFind us on Facebook: @KiranNorthCarolina\nFind us on Instagram: @kiran_inc \nWebsite: www.kiraninc.org \nIf you have questions\, give us a call at: 919-831-4203. Otherwise\, you can send an email to kiran@kiraninc.org. \nWe’re so excited to see you all on April 19th at Bond Park! \nPlease purchase your tickets here!
URL:https://kiraninc.org/event/rdu-heroes-for-hope-walkathon-2026/
LOCATION:Bond Park – Kiwanis Shelter\, 801 High House Road\, Cary\, 27513\, United States
CATEGORIES:Heroes for Hope Walkathons
ATTACH;FMTTYPE=image/jpeg:https://kiraninc.org/wp-content/uploads/2026/02/Walk-2026-2-scaled.jpg
ORGANIZER;CN="Kiran":MAILTO:kiran@kiraninc.org
END:VEVENT
BEGIN:VEVENT
DTSTART;TZID=America/Halifax:20250504T090000
DTEND;TZID=America/Halifax:20250504T120000
DTSTAMP:20260423T064812
CREATED:20250407T202314Z
LAST-MODIFIED:20250425T183403Z
UID:24748-1746349200-1746360000@kiraninc.org
SUMMARY:2nd Heroes for Hope Walkathon in CLT!
DESCRIPTION:Heroes for Hope Walkathon is back in Charlotte on May 4 at Marvin Efird Park!\n\n\n\nGet ready for a day filled with energy\, community\, and culture! Start your morning with a rejuvenating yoga warm-up led by YogaSix\, followed by exciting live performances that will keep the vibe high all day long.\n\n\n\nIndulge in flavorful bites like idlis\, samosas\, by Hindu center and Tabla restaurant and more while sipping on a comforting cup of chai. Don’t forget to stop by for some beautiful henna art by the talented Siji Sabeer!\n\n\n\nGrab your tickets now to secure your event T-shirt and be part of a cause that makes a difference. This is more than a walk—it’s a celebration of hope\, unity\, and giving back! \n\nPurchase your tickets here!
URL:https://kiraninc.org/event/2nd-heroes-for-hope-walkathon-in-clt/
LOCATION:Marvin Efird Park\, 8909 New Town Rd\, Waxhaw\, NC\, 28173\, United States
CATEGORIES:Heroes for Hope Walkathons
ATTACH;FMTTYPE=image/png:https://kiraninc.org/wp-content/uploads/2025/04/Screenshot-30.png
ORGANIZER;CN="Kiran":MAILTO:kiran@kiraninc.org
END:VEVENT
BEGIN:VEVENT
DTSTART;TZID=America/Halifax:20250413T090000
DTEND;TZID=America/Halifax:20250413T120000
DTSTAMP:20260423T064812
CREATED:20250319T183528Z
LAST-MODIFIED:20250319T183528Z
UID:24710-1744534800-1744545600@kiraninc.org
SUMMARY:10th Heroes for Hope Walkathon in RDU
DESCRIPTION:Every year\, we host our “Heroes for Hope” Walkathon to raise awareness and funds for domestic violence services. As the only agency in North Carolina serving South Asian survivors\, we are in a unique position to provide culturally sensitive services for our clients and support/complement the services provided by mainstream domestic violence agencies to South Asian clients. \n\n \n\nCome join us for this year’s walk at the Large Shelter at Apex Community Park on April 13th\, from 9 AM to 12 PM! This is our TENTH Walkathon in RDU and we want YOU there! Purchase your tickets at bit.ly/rduwalk2025!\n\n \n\nIf you have questions\, give us a call at: 919-831-4203. Otherwise\, you can send an email to kiran@kiraninc.org.\n\n \n\nWe’re so excited to see you all on April 13th at Apex Community Park!\n\n \n\nThis event is not organized by the Town of Apex.
URL:https://kiraninc.org/event/10th-heroes-for-hope-walkathon-in-rdu/
LOCATION:Apex Community Park – Large Shelter\, 2200 Laura Duncan Rd\, Apex\, 27523\, United States
CATEGORIES:Heroes for Hope Walkathons
ATTACH;FMTTYPE=image/jpeg:https://kiraninc.org/wp-content/uploads/2025/03/Walk-2025.jpg
ORGANIZER;CN="Kiran":MAILTO:kiran@kiraninc.org
END:VEVENT
BEGIN:VEVENT
DTSTART;TZID=America/Halifax:20240421T090000
DTEND;TZID=America/Halifax:20240421T190000
DTSTAMP:20260423T064812
CREATED:20241017T174105Z
LAST-MODIFIED:20250129T153538Z
UID:22894-1713690000-1713726000@kiraninc.org
SUMMARY:RDU Kiran Walkathon 2024
DESCRIPTION:Thomas Brooks Park \nCome join us at the lovely Thomas Brooks Park! You can walk\, run\, hike; whatever you choose to do\, be …
URL:https://kiraninc.org/event/rdu-kiran-walkathon-2024/
CATEGORIES:Heroes for Hope Walkathons
END:VEVENT
END:VCALENDAR