BEGIN:VCALENDAR
VERSION:2.0
PRODID:-//Kiran - ECPv6.15.20//NONSGML v1.0//EN
CALSCALE:GREGORIAN
METHOD:PUBLISH
X-ORIGINAL-URL:https://kiraninc.org
X-WR-CALDESC:Events for Kiran
REFRESH-INTERVAL;VALUE=DURATION:PT1H
X-Robots-Tag:noindex
X-PUBLISHED-TTL:PT1H
BEGIN:VTIMEZONE
TZID:America/Halifax
BEGIN:DAYLIGHT
TZOFFSETFROM:-0400
TZOFFSETTO:-0300
TZNAME:ADT
DTSTART:20240310T060000
END:DAYLIGHT
BEGIN:STANDARD
TZOFFSETFROM:-0300
TZOFFSETTO:-0400
TZNAME:AST
DTSTART:20241103T050000
END:STANDARD
BEGIN:DAYLIGHT
TZOFFSETFROM:-0400
TZOFFSETTO:-0300
TZNAME:ADT
DTSTART:20250309T060000
END:DAYLIGHT
BEGIN:STANDARD
TZOFFSETFROM:-0300
TZOFFSETTO:-0400
TZNAME:AST
DTSTART:20251102T050000
END:STANDARD
BEGIN:DAYLIGHT
TZOFFSETFROM:-0400
TZOFFSETTO:-0300
TZNAME:ADT
DTSTART:20260308T060000
END:DAYLIGHT
BEGIN:STANDARD
TZOFFSETFROM:-0300
TZOFFSETTO:-0400
TZNAME:AST
DTSTART:20261101T050000
END:STANDARD
BEGIN:DAYLIGHT
TZOFFSETFROM:-0400
TZOFFSETTO:-0300
TZNAME:ADT
DTSTART:20270314T060000
END:DAYLIGHT
BEGIN:STANDARD
TZOFFSETFROM:-0300
TZOFFSETTO:-0400
TZNAME:AST
DTSTART:20271107T050000
END:STANDARD
END:VTIMEZONE
BEGIN:VEVENT
DTSTART;TZID=America/Halifax:20260222T163000
DTEND;TZID=America/Halifax:20260222T183000
DTSTAMP:20260423T014233
CREATED:20260115T162900Z
LAST-MODIFIED:20260219T151403Z
UID:26214-1771777800-1771785000@kiraninc.org
SUMMARY:Rhythms of Romance
DESCRIPTION:The evening will feature performances by Devendra Gupta\, Sangita Trivedi Dave\, Rasika Joshi\, and Sanjai Sharma\, focusing on romantic Bollywood music and songs. Additional performances include duets by Ramesh & Ahana\, Chandima & Gamini\, and Roshan & Dhiraj with songs in Tamil\, Telugu\, Kannada\, Sinhalese\, and Nepalese. Admission is $30 per person\, which includes hearty snacks and beverages. THIS EVENT IS SOLD OUT! You can be added to our waitlist by emailing kiran@kiraninc.org!  \nAll proceeds from this event will be going directly to Kiran’s mission of empowering South Asian victims and survivors of Domestic Violence in NC.
URL:https://kiraninc.org/event/rhythms-of-romance/
LOCATION:Utsav\, 4181 Davis Drive\, Morrisville\, NC\, 27560\, United States
CATEGORIES:Community Outreach,Fundraiser
ATTACH;FMTTYPE=image/jpeg:https://kiraninc.org/wp-content/uploads/2026/01/Rhythms-of-Romance-Social-Media-Post.jpg
END:VEVENT
BEGIN:VEVENT
DTSTART;TZID=America/Halifax:20251213T133000
DTEND;TZID=America/Halifax:20251213T153000
DTSTAMP:20260423T014233
CREATED:20251208T180524Z
LAST-MODIFIED:20251208T182142Z
UID:25887-1765632600-1765639800@kiraninc.org
SUMMARY:"Kiran: A Ray of Hope" Musical by Nrityangan Cultural Academy
DESCRIPTION:On the occasion of Kiran’s 25 th Anniversary\,\nNrityangan Cultural Academy presents…\nKiran: A Ray of Hope\nA Vibrant Bollywood Musical.  \n  \nJoin us for an inspiring afternoon celebrating culture and compassion. Tickets are $25 and can be purchased by contacting Ritu Mukherjee at ritusdance@gmail.com or 704-840-5495. \nThis special fundraiser supports Kiran’s mission to serve and uplift survivors of domestic violence. Kiran’s mission is to end the cycle of abuse and to serve and empower South Asian survivors of domestic violence in North Carolina by providing culturally specific services and comprehensive\, economic\, social and community resources. Kiran means ‘ray of light’ in Hindi. We aim to illuminate\, guide and instill hope in the lives of South Asian domestic violence survivors all across North Carolina. We want to bring a change in the way the South Asian Community views and responds to domestic and sexual violence by educating the community on understanding diversity\, violence prevention\, empowerment\, promoting healthy and non-violent relationships\, commitment to social change\, professionalism and equity. For more information about Kiran please visit our website at www.kiraninc.org \nFlyer credit : Anindita
URL:https://kiraninc.org/event/kiran-a-ray-of-hope-musical-by-nrityangan-cultural-academy/
LOCATION:Stanly County Agri-Civic Center\, 26032 Newt Rd #B\, Albermarle\, NC\, 28001\, United States
CATEGORIES:Community Outreach,Fundraiser
ATTACH;FMTTYPE=image/jpeg:https://kiraninc.org/wp-content/uploads/2025/12/IMG_5315-1.jpeg
ORGANIZER;CN="Nrityangan Cultural Academy":MAILTO:ritusdance@gmail.com
END:VEVENT
BEGIN:VEVENT
DTSTART;TZID=America/Halifax:20251024T190000
DTEND;TZID=America/Halifax:20251024T200000
DTSTAMP:20260423T014233
CREATED:20251022T170925Z
LAST-MODIFIED:20251022T170925Z
UID:25745-1761332400-1761336000@kiraninc.org
SUMMARY:Love Shouldn't Hurt: DV Awareness Talk at IAR
DESCRIPTION:This Friday\, one of our staff members will be speaking at Islamic Association of Raleigh’s Friday Night Program! This month’s event features a panel discussion on domestic violence\, helping to educate the community on healthy and unhealthy relationships. No registration is required to attend the event!
URL:https://kiraninc.org/event/love-shouldnt-hurt-dv-awareness-talk-at-iar/
LOCATION:Islamic Association of Raleigh\, 808 Atwater St\, Raleigh\, NC\, 27607\, United States
CATEGORIES:Community Outreach
ATTACH;FMTTYPE=image/jpeg:https://kiraninc.org/wp-content/uploads/2025/10/WhatsApp-Image-2025-10-19-at-16.15.05_57b4a7b0.jpg
END:VEVENT
BEGIN:VEVENT
DTSTART;TZID=America/Halifax:20251024T120000
DTEND;TZID=America/Halifax:20251024T150000
DTSTAMP:20260423T014233
CREATED:20251008T150523Z
LAST-MODIFIED:20251008T211230Z
UID:25716-1761307200-1761318000@kiraninc.org
SUMMARY:Survive & Thrive Resource Fair
DESCRIPTION:Join us at the Survive & Thrive Resource Fair happening in the auditorium of the Durham County library on Friday\, October 24th! With over 25 organizations (including us!)\, learn about the resources available to survivors in Durham and how you can continue supporting them.
URL:https://kiraninc.org/event/survive-thrive-resource-fair/
LOCATION:Auditorium of Durham County Library\, 300 N Roxboro Rd\, Durham\, NC\, 27701\, United States
CATEGORIES:Community Outreach
END:VEVENT
BEGIN:VEVENT
DTSTART;TZID=America/Halifax:20251023T170000
DTEND;TZID=America/Halifax:20251023T190000
DTSTAMP:20260423T014233
CREATED:20251008T153533Z
LAST-MODIFIED:20251008T153533Z
UID:25721-1761238800-1761246000@kiraninc.org
SUMMARY:Purple Thursday at NC State University
DESCRIPTION:On October 23rd\, we will be tabling at NCSU’s Purple Thursday Resource Fair\, hosted by the Women’s Center. Come and learn about the resources available and honor every individual who has been affected by domestic violence. Make sure to show your support by wearing purple!
URL:https://kiraninc.org/event/purple-thursday-at-nc-state-university/
LOCATION:Stafford Commons at Talley Student Union\, 2610 Cates Ave\, Raleigh\, NC\, 27607\, United States
CATEGORIES:Community Outreach
ORGANIZER;CN="Women's Center of NCSU":MAILTO:womens-center@ncsu.edu
END:VEVENT
BEGIN:VEVENT
DTSTART;TZID=America/Halifax:20251015T120000
DTEND;TZID=America/Halifax:20251015T130000
DTSTAMP:20260423T014233
CREATED:20250918T171243Z
LAST-MODIFIED:20250925T192039Z
UID:25488-1760529600-1760533200@kiraninc.org
SUMMARY:Kiran's DVAM Panel
DESCRIPTION:Our free and virtual DVAM Panel is on Oct. 15th\, from 12-1 PM. Register at bit.ly/dvam2025 to hear from experienced individuals such as family law attorney\, Ana Alexander; immigration attorney\, Omar Baloch; and DV survivor and advocate Ruhani Amin. Whether you have experienced domestic violence or know someone who has\, this is a chance for you to learn more about domestic violence and hear from individuals with varying professional and personal experiences.
URL:https://kiraninc.org/event/kirans-dvam-panel/
LOCATION:NC
CATEGORIES:Client Empowerment Program,Community Outreach,Speaker Series
ORGANIZER;CN="Kiran":MAILTO:kiran@kiraninc.org
END:VEVENT
BEGIN:VEVENT
DTSTART;TZID=America/Halifax:20251011T093000
DTEND;TZID=America/Halifax:20251011T213000
DTSTAMP:20260423T014233
CREATED:20250917T132358Z
LAST-MODIFIED:20250917T133657Z
UID:25390-1760175000-1760218200@kiraninc.org
SUMMARY:Hum Sub Diwali 2025
DESCRIPTION:Kiran is excited to be a vendor at the Hum Sub Diwali celebration at Koka Booth Amphitheatre! Every year\, the South Asian community of the Triangle comes together to celebrate Diwali and have graciously invited us to table at the event.  Bring your families and friends for a daylong FREE cultural immersion into the Indian subcontinent filled with lots of entertainment\, shopping\, sumptuous food and breathtaking fireworks! 
URL:https://kiraninc.org/event/hum-sub-diwali-2025/
LOCATION:Koka Booth Amphitheatre\, 8003 Regency Pkwy\, Cary\, NC\, 27518\, United States
CATEGORIES:Community Outreach
ATTACH;FMTTYPE=image/jpeg:https://kiraninc.org/wp-content/uploads/2025/09/diwali.jpg
END:VEVENT
BEGIN:VEVENT
DTSTART;TZID=America/Halifax:20251010T190000
DTEND;TZID=America/Halifax:20251010T220000
DTSTAMP:20260423T014233
CREATED:20251008T144336Z
LAST-MODIFIED:20251008T144350Z
UID:25711-1760122800-1760133600@kiraninc.org
SUMMARY:Tabling at Sharad Purnima Garba
DESCRIPTION:Kiran is excited to table at Sharad Purnima Garba at the Hindu Center of Charlotte on October 10th. Make sure to stop by and learn more about domestic violence and how you can support survivors in our community!
URL:https://kiraninc.org/event/tabling-at-sharad-purnima-garba/
LOCATION:Hindu Center of Charlotte\, 7400 City View Dr\, Charlotte\, NC\, 28212\, United States
CATEGORIES:Community Outreach
END:VEVENT
BEGIN:VEVENT
DTSTART;TZID=America/Halifax:20251007T193000
DTEND;TZID=America/Halifax:20251007T203000
DTSTAMP:20260423T014233
CREATED:20250925T155222Z
LAST-MODIFIED:20250925T175802Z
UID:25681-1759865400-1759869000@kiraninc.org
SUMMARY:Cary Fountain Lighting in Honor of DVAM
DESCRIPTION:The Town of Cary is lighting the town fountain purple for DVAM! Join Kiran and the Town of Cary as we honor survivors and those we have lost to domestic violence. Wear purple and stand in solidarity with us!
URL:https://kiraninc.org/event/cary-fountain-lighting-in-honor-of-dvam/
LOCATION:Downtown Cary Art Center\, 101 Dry Ave\, Cary\, NC\, 27511\, United States
CATEGORIES:Community Outreach
END:VEVENT
BEGIN:VEVENT
DTSTART;TZID=America/Halifax:20251007T163000
DTEND;TZID=America/Halifax:20251007T190000
DTSTAMP:20260423T014233
CREATED:20250917T132957Z
LAST-MODIFIED:20250917T132957Z
UID:25397-1759854600-1759863600@kiraninc.org
SUMMARY:Apex Night Out
DESCRIPTION:The Apex Night Out event returns October 7th! A night where families and communities can come together and learn about the resources available to them. Check out our table at the event!
URL:https://kiraninc.org/event/apex-night-out/
LOCATION:Apex Town Campus\, 73 Hunter St\, Apex\, NC\, 27502\, United States
CATEGORIES:Community Outreach
ATTACH;FMTTYPE=image/png:https://kiraninc.org/wp-content/uploads/2025/09/Document-1.png
END:VEVENT
BEGIN:VEVENT
DTSTART;TZID=America/Halifax:20251003T100000
DTEND;TZID=America/Halifax:20251003T140000
DTSTAMP:20260423T014233
CREATED:20250925T193416Z
LAST-MODIFIED:20250925T193416Z
UID:25688-1759485600-1759500000@kiraninc.org
SUMMARY:Char-Meck DVAM Resource Fair
DESCRIPTION:Kiran has been graciously invited to table at the Charlotte-Mecklenburg DVAM Resource Fair\, hosted by the CMPD! This event will feature different agencies and resources aimed to empowering survivors and their families.  \nThe fair will be held outdoors in the center court area of The Charlotte Premium Outlets\, located at 5404 New Fashion Way\, Charlotte\, NC 28278.   
URL:https://kiraninc.org/event/char-meck-dvam-resource-fair/
LOCATION:Charlotte Premium Outlets\, 5404 New Fashion Way\, Charlotte\, NC\, 28278\, United States
CATEGORIES:Community Outreach
END:VEVENT
BEGIN:VEVENT
DTSTART;TZID=America/Halifax:20251001T110000
DTEND;TZID=America/Halifax:20251001T140000
DTSTAMP:20260423T014233
CREATED:20251001T181509Z
LAST-MODIFIED:20251001T181641Z
UID:25696-1759316400-1759327200@kiraninc.org
SUMMARY:RVAM Resource Fair at Duke University
DESCRIPTION:We will be tabling at Duke University’s Relationship Violence Awareness Month Resource Fair from 11 AM to 2 PM!
URL:https://kiraninc.org/event/rvam-resource-fair-at-duke-university/
LOCATION:Bryan Center Plaza\, 120 Science Dr\,\, Durham\, NC\, 27710\, United States
CATEGORIES:Community Outreach
END:VEVENT
BEGIN:VEVENT
DTSTART;VALUE=DATE:20251001
DTEND;VALUE=DATE:20251202
DTSTAMP:20260423T014233
CREATED:20250924T205142Z
LAST-MODIFIED:20250924T205142Z
UID:25674-1759276800-1764633599@kiraninc.org
SUMMARY:Kiran's 2025 Art Contest
DESCRIPTION:Kiran’s annual art contest returns this October! In honor of 25 years of Kiran empowering survivors of DV\, this year’s theme is “A Legacy of Hope.” Artists of all ages are encouraged to submit any 2D art work that aligns with this theme. Submit your artwork by December 1st here: bit.ly/kiranart2025. If you are having difficulty submitting your art work\, you can email it to kiran@kiraninc.org with your Name\, Age\, and the City/State you are from! \n\n\n\nThe winning entry will grace the cover of Kiran’s 2025 Annual Report while the remaining entries will be displayed throughout our report. All artwork will be showcased on our website and our social media! \n\n\n\n 
URL:https://kiraninc.org/event/kirans-2025-art-contest/
LOCATION:NC
CATEGORIES:Community Outreach
ORGANIZER;CN="Kiran":MAILTO:kiran@kiraninc.org
END:VEVENT
BEGIN:VEVENT
DTSTART;TZID=America/Halifax:20250920T160000
DTEND;TZID=America/Halifax:20250920T190000
DTSTAMP:20260423T014233
CREATED:20250917T132037Z
LAST-MODIFIED:20250917T133603Z
UID:25386-1758384000-1758394800@kiraninc.org
SUMMARY:Morrisville International Festival
DESCRIPTION:Morrisville is one of the fastest growing and most diverse towns in North Carolina. Join us in celebrating that diversity at the Morrisville International Festival!  \nHeld in the fall\, this festival brings together the community for a day of food\, music\, dance\, art\, and fun. The festival includes food vendors representing culinary traditions from around the world; performers entertaining the crowds with traditional music and dance performances; and “International Alley\,” featuring artisan vendors and cultural groups with a global perspective.  \nKiran is honored to table at this event and be a part of such a diverse community!
URL:https://kiraninc.org/event/morrisville-international-festival/
LOCATION:Cedar Fork Community Center\, 1050 #B Town Hall Drive\, Morrisville\, NC\, 27560\, United States
CATEGORIES:Community Outreach
ATTACH;FMTTYPE=image/webp:https://kiraninc.org/wp-content/uploads/2025/09/16464955021153.webp
END:VEVENT
BEGIN:VEVENT
DTSTART;TZID=America/Halifax:20250215T100000
DTEND;TZID=America/Halifax:20250215T140000
DTSTAMP:20260423T014233
CREATED:20250203T200526Z
LAST-MODIFIED:20250203T200526Z
UID:24634-1739613600-1739628000@kiraninc.org
SUMMARY:Conference of Community Organizations with UNC's Asian American Center
DESCRIPTION:The UNC Asian American Center is hosting its first “community-con” on Saturday\, February 15th at the Graduate Student Center. They have graciously invited our organization as well as numerous other organizations that serve Asian Americans. This event is free and open to the public. \nDate & Time: February 15th\, 10 AM -2 PM \nLocation: Graduate Student Center – 211A West Cameron Ave\, Chapel Hill\, NC \nFree parking will be available at the nearby Nash Lot on Wilson Street. \nRefreshments and lunch will be provided to those that register by Monday\, February 10th at 5 PM.
URL:https://kiraninc.org/event/conference-of-community-organizations-with-uncs-asian-american-center/
LOCATION:211A West Cameron Avenue\, Chapel Hill\, NC\, 211A West Cameron Avenue\, Chapel Hill\, NC\, 27599\, United States
CATEGORIES:Community Outreach
ATTACH;FMTTYPE=image/jpeg:https://kiraninc.org/wp-content/uploads/2025/02/unnamed-19.jpg
END:VEVENT
END:VCALENDAR