BEGIN:VCALENDAR
VERSION:2.0
PRODID:-//Kiran - ECPv6.15.20//NONSGML v1.0//EN
CALSCALE:GREGORIAN
METHOD:PUBLISH
X-WR-CALNAME:Kiran
X-ORIGINAL-URL:https://kiraninc.org
X-WR-CALDESC:Events for Kiran
REFRESH-INTERVAL;VALUE=DURATION:PT1H
X-Robots-Tag:noindex
X-PUBLISHED-TTL:PT1H
BEGIN:VTIMEZONE
TZID:America/Halifax
BEGIN:DAYLIGHT
TZOFFSETFROM:-0400
TZOFFSETTO:-0300
TZNAME:ADT
DTSTART:20240310T060000
END:DAYLIGHT
BEGIN:STANDARD
TZOFFSETFROM:-0300
TZOFFSETTO:-0400
TZNAME:AST
DTSTART:20241103T050000
END:STANDARD
BEGIN:DAYLIGHT
TZOFFSETFROM:-0400
TZOFFSETTO:-0300
TZNAME:ADT
DTSTART:20250309T060000
END:DAYLIGHT
BEGIN:STANDARD
TZOFFSETFROM:-0300
TZOFFSETTO:-0400
TZNAME:AST
DTSTART:20251102T050000
END:STANDARD
BEGIN:DAYLIGHT
TZOFFSETFROM:-0400
TZOFFSETTO:-0300
TZNAME:ADT
DTSTART:20260308T060000
END:DAYLIGHT
BEGIN:STANDARD
TZOFFSETFROM:-0300
TZOFFSETTO:-0400
TZNAME:AST
DTSTART:20261101T050000
END:STANDARD
END:VTIMEZONE
BEGIN:VEVENT
DTSTART;VALUE=DATE:20251001
DTEND;VALUE=DATE:20251202
DTSTAMP:20260423T120503
CREATED:20250924T205142Z
LAST-MODIFIED:20250924T205142Z
UID:25674-1759276800-1764633599@kiraninc.org
SUMMARY:Kiran's 2025 Art Contest
DESCRIPTION:Kiran’s annual art contest returns this October! In honor of 25 years of Kiran empowering survivors of DV\, this year’s theme is “A Legacy of Hope.” Artists of all ages are encouraged to submit any 2D art work that aligns with this theme. Submit your artwork by December 1st here: bit.ly/kiranart2025. If you are having difficulty submitting your art work\, you can email it to kiran@kiraninc.org with your Name\, Age\, and the City/State you are from! \n\n\n\nThe winning entry will grace the cover of Kiran’s 2025 Annual Report while the remaining entries will be displayed throughout our report. All artwork will be showcased on our website and our social media! \n\n\n\n 
URL:https://kiraninc.org/event/kirans-2025-art-contest/
LOCATION:NC
CATEGORIES:Community Outreach
ORGANIZER;CN="Kiran":MAILTO:kiran@kiraninc.org
END:VEVENT
BEGIN:VEVENT
DTSTART;TZID=America/Halifax:20251003T100000
DTEND;TZID=America/Halifax:20251003T140000
DTSTAMP:20260423T120503
CREATED:20250925T193416Z
LAST-MODIFIED:20250925T193416Z
UID:25688-1759485600-1759500000@kiraninc.org
SUMMARY:Char-Meck DVAM Resource Fair
DESCRIPTION:Kiran has been graciously invited to table at the Charlotte-Mecklenburg DVAM Resource Fair\, hosted by the CMPD! This event will feature different agencies and resources aimed to empowering survivors and their families.  \nThe fair will be held outdoors in the center court area of The Charlotte Premium Outlets\, located at 5404 New Fashion Way\, Charlotte\, NC 28278.   
URL:https://kiraninc.org/event/char-meck-dvam-resource-fair/
LOCATION:Charlotte Premium Outlets\, 5404 New Fashion Way\, Charlotte\, NC\, 28278\, United States
CATEGORIES:Community Outreach
END:VEVENT
END:VCALENDAR