BEGIN:VCALENDAR
VERSION:2.0
PRODID:-//Kiran - ECPv6.15.20//NONSGML v1.0//EN
CALSCALE:GREGORIAN
METHOD:PUBLISH
X-WR-CALNAME:Kiran
X-ORIGINAL-URL:https://kiraninc.org
X-WR-CALDESC:Events for Kiran
REFRESH-INTERVAL;VALUE=DURATION:PT1H
X-Robots-Tag:noindex
X-PUBLISHED-TTL:PT1H
BEGIN:VTIMEZONE
TZID:America/Halifax
BEGIN:DAYLIGHT
TZOFFSETFROM:-0400
TZOFFSETTO:-0300
TZNAME:ADT
DTSTART:20250309T060000
END:DAYLIGHT
BEGIN:STANDARD
TZOFFSETFROM:-0300
TZOFFSETTO:-0400
TZNAME:AST
DTSTART:20251102T050000
END:STANDARD
BEGIN:DAYLIGHT
TZOFFSETFROM:-0400
TZOFFSETTO:-0300
TZNAME:ADT
DTSTART:20260308T060000
END:DAYLIGHT
BEGIN:STANDARD
TZOFFSETFROM:-0300
TZOFFSETTO:-0400
TZNAME:AST
DTSTART:20261101T050000
END:STANDARD
BEGIN:DAYLIGHT
TZOFFSETFROM:-0400
TZOFFSETTO:-0300
TZNAME:ADT
DTSTART:20270314T060000
END:DAYLIGHT
BEGIN:STANDARD
TZOFFSETFROM:-0300
TZOFFSETTO:-0400
TZNAME:AST
DTSTART:20271107T050000
END:STANDARD
END:VTIMEZONE
BEGIN:VEVENT
DTSTART;TZID=America/Halifax:20260222T163000
DTEND;TZID=America/Halifax:20260222T183000
DTSTAMP:20260423T043659
CREATED:20260115T162900Z
LAST-MODIFIED:20260219T151403Z
UID:26214-1771777800-1771785000@kiraninc.org
SUMMARY:Rhythms of Romance
DESCRIPTION:The evening will feature performances by Devendra Gupta\, Sangita Trivedi Dave\, Rasika Joshi\, and Sanjai Sharma\, focusing on romantic Bollywood music and songs. Additional performances include duets by Ramesh & Ahana\, Chandima & Gamini\, and Roshan & Dhiraj with songs in Tamil\, Telugu\, Kannada\, Sinhalese\, and Nepalese. Admission is $30 per person\, which includes hearty snacks and beverages. THIS EVENT IS SOLD OUT! You can be added to our waitlist by emailing kiran@kiraninc.org!  \nAll proceeds from this event will be going directly to Kiran’s mission of empowering South Asian victims and survivors of Domestic Violence in NC.
URL:https://kiraninc.org/event/rhythms-of-romance/
LOCATION:Utsav\, 4181 Davis Drive\, Morrisville\, NC\, 27560\, United States
CATEGORIES:Community Outreach,Fundraiser
ATTACH;FMTTYPE=image/jpeg:https://kiraninc.org/wp-content/uploads/2026/01/Rhythms-of-Romance-Social-Media-Post.jpg
END:VEVENT
END:VCALENDAR