BEGIN:VCALENDAR
VERSION:2.0
PRODID:-//Kiran - ECPv6.15.20//NONSGML v1.0//EN
CALSCALE:GREGORIAN
METHOD:PUBLISH
X-WR-CALNAME:Kiran
X-ORIGINAL-URL:https://kiraninc.org
X-WR-CALDESC:Events for Kiran
REFRESH-INTERVAL;VALUE=DURATION:PT1H
X-Robots-Tag:noindex
X-PUBLISHED-TTL:PT1H
BEGIN:VTIMEZONE
TZID:America/Halifax
BEGIN:DAYLIGHT
TZOFFSETFROM:-0400
TZOFFSETTO:-0300
TZNAME:ADT
DTSTART:20240310T060000
END:DAYLIGHT
BEGIN:STANDARD
TZOFFSETFROM:-0300
TZOFFSETTO:-0400
TZNAME:AST
DTSTART:20241103T050000
END:STANDARD
BEGIN:DAYLIGHT
TZOFFSETFROM:-0400
TZOFFSETTO:-0300
TZNAME:ADT
DTSTART:20250309T060000
END:DAYLIGHT
BEGIN:STANDARD
TZOFFSETFROM:-0300
TZOFFSETTO:-0400
TZNAME:AST
DTSTART:20251102T050000
END:STANDARD
BEGIN:DAYLIGHT
TZOFFSETFROM:-0400
TZOFFSETTO:-0300
TZNAME:ADT
DTSTART:20260308T060000
END:DAYLIGHT
BEGIN:STANDARD
TZOFFSETFROM:-0300
TZOFFSETTO:-0400
TZNAME:AST
DTSTART:20261101T050000
END:STANDARD
END:VTIMEZONE
BEGIN:VEVENT
DTSTART;TZID=America/Halifax:20251010T190000
DTEND;TZID=America/Halifax:20251010T220000
DTSTAMP:20260423T031621
CREATED:20251008T144336Z
LAST-MODIFIED:20251008T144350Z
UID:25711-1760122800-1760133600@kiraninc.org
SUMMARY:Tabling at Sharad Purnima Garba
DESCRIPTION:Kiran is excited to table at Sharad Purnima Garba at the Hindu Center of Charlotte on October 10th. Make sure to stop by and learn more about domestic violence and how you can support survivors in our community!
URL:https://kiraninc.org/event/tabling-at-sharad-purnima-garba/
LOCATION:Hindu Center of Charlotte\, 7400 City View Dr\, Charlotte\, NC\, 28212\, United States
CATEGORIES:Community Outreach
END:VEVENT
END:VCALENDAR