BEGIN:VCALENDAR
VERSION:2.0
PRODID:-//Kiran - ECPv6.15.20//NONSGML v1.0//EN
CALSCALE:GREGORIAN
METHOD:PUBLISH
X-WR-CALNAME:Kiran
X-ORIGINAL-URL:https://kiraninc.org
X-WR-CALDESC:Events for Kiran
REFRESH-INTERVAL;VALUE=DURATION:PT1H
X-Robots-Tag:noindex
X-PUBLISHED-TTL:PT1H
BEGIN:VTIMEZONE
TZID:America/Halifax
BEGIN:DAYLIGHT
TZOFFSETFROM:-0400
TZOFFSETTO:-0300
TZNAME:ADT
DTSTART:20230312T060000
END:DAYLIGHT
BEGIN:STANDARD
TZOFFSETFROM:-0300
TZOFFSETTO:-0400
TZNAME:AST
DTSTART:20231105T050000
END:STANDARD
BEGIN:DAYLIGHT
TZOFFSETFROM:-0400
TZOFFSETTO:-0300
TZNAME:ADT
DTSTART:20240310T060000
END:DAYLIGHT
BEGIN:STANDARD
TZOFFSETFROM:-0300
TZOFFSETTO:-0400
TZNAME:AST
DTSTART:20241103T050000
END:STANDARD
BEGIN:DAYLIGHT
TZOFFSETFROM:-0400
TZOFFSETTO:-0300
TZNAME:ADT
DTSTART:20250309T060000
END:DAYLIGHT
BEGIN:STANDARD
TZOFFSETFROM:-0300
TZOFFSETTO:-0400
TZNAME:AST
DTSTART:20251102T050000
END:STANDARD
END:VTIMEZONE
BEGIN:VEVENT
DTSTART;TZID=America/Halifax:20240811T120000
DTEND;TZID=America/Halifax:20240811T190000
DTSTAMP:20260423T015654
CREATED:20241017T174425Z
LAST-MODIFIED:20250129T153527Z
UID:22900-1723377600-1723402800@kiraninc.org
SUMMARY:Kiran Bazaar 2024
DESCRIPTION:HSNC Main Hall (309 Aviation Parkway\, Morrisville\, NC 27650) \nThe Bazaar will be happening on August 11th from 12 PM to 7 PM in the HSNC Main Hall (309 Aviation Parkway\, Morrisville\, NC 27650). \nCheck out the photos from the event! \nThank you to Kruti Parekh from StoryLand Photography and Amrit Wadhwa for the incredible photos taken at the event!
URL:https://kiraninc.org/event/kiran-bazaar-2024/
CATEGORIES:Kiran Bazaar
END:VEVENT
END:VCALENDAR