BEGIN:VCALENDAR
VERSION:2.0
PRODID:-//Kiran - ECPv6.15.20//NONSGML v1.0//EN
CALSCALE:GREGORIAN
METHOD:PUBLISH
X-WR-CALNAME:Kiran
X-ORIGINAL-URL:https://kiraninc.org
X-WR-CALDESC:Events for Kiran
REFRESH-INTERVAL;VALUE=DURATION:PT1H
X-Robots-Tag:noindex
X-PUBLISHED-TTL:PT1H
BEGIN:VTIMEZONE
TZID:America/Halifax
BEGIN:DAYLIGHT
TZOFFSETFROM:-0400
TZOFFSETTO:-0300
TZNAME:ADT
DTSTART:20240310T060000
END:DAYLIGHT
BEGIN:STANDARD
TZOFFSETFROM:-0300
TZOFFSETTO:-0400
TZNAME:AST
DTSTART:20241103T050000
END:STANDARD
BEGIN:DAYLIGHT
TZOFFSETFROM:-0400
TZOFFSETTO:-0300
TZNAME:ADT
DTSTART:20250309T060000
END:DAYLIGHT
BEGIN:STANDARD
TZOFFSETFROM:-0300
TZOFFSETTO:-0400
TZNAME:AST
DTSTART:20251102T050000
END:STANDARD
BEGIN:DAYLIGHT
TZOFFSETFROM:-0400
TZOFFSETTO:-0300
TZNAME:ADT
DTSTART:20260308T060000
END:DAYLIGHT
BEGIN:STANDARD
TZOFFSETFROM:-0300
TZOFFSETTO:-0400
TZNAME:AST
DTSTART:20261101T050000
END:STANDARD
END:VTIMEZONE
BEGIN:VEVENT
DTSTART;TZID=America/Halifax:20250914T120000
DTEND;TZID=America/Halifax:20250914T190000
DTSTAMP:20260423T061644
CREATED:20250625T211106Z
LAST-MODIFIED:20250625T211106Z
UID:25225-1757851200-1757876400@kiraninc.org
SUMMARY:Kiran Bazaar
DESCRIPTION:Kiran Bazaar returns on SUNDAY\, SEPTEMBER 14TH this year! Join us at the HSNC Main Hall for a spectacular day full of fun\, shopping\, raffles\, and food! The Bazaar is free\, open to all\, and we can’t wait to see you there! \nThere are a few vendor spots left so if you’re interesting being a vendor at this year’s Bazaar\, please email bazaar@kiraninc.org See you there! \n 
URL:https://kiraninc.org/event/kiran-bazaar-2/
LOCATION:HSNC Main Hall
CATEGORIES:Kiran Bazaar
ATTACH;FMTTYPE=image/jpeg:https://kiraninc.org/wp-content/uploads/2025/06/Bazaar-2025-Facebook-Post-Square.jpg
ORGANIZER;CN="Kiran":MAILTO:kiran@kiraninc.org
END:VEVENT
END:VCALENDAR