BEGIN:VCALENDAR
VERSION:2.0
PRODID:-//Kiran - ECPv6.15.20//NONSGML v1.0//EN
CALSCALE:GREGORIAN
METHOD:PUBLISH
X-WR-CALNAME:Kiran
X-ORIGINAL-URL:https://kiraninc.org
X-WR-CALDESC:Events for Kiran
REFRESH-INTERVAL;VALUE=DURATION:PT1H
X-Robots-Tag:noindex
X-PUBLISHED-TTL:PT1H
BEGIN:VTIMEZONE
TZID:America/Halifax
BEGIN:DAYLIGHT
TZOFFSETFROM:-0400
TZOFFSETTO:-0300
TZNAME:ADT
DTSTART:20220313T060000
END:DAYLIGHT
BEGIN:STANDARD
TZOFFSETFROM:-0300
TZOFFSETTO:-0400
TZNAME:AST
DTSTART:20221106T050000
END:STANDARD
BEGIN:DAYLIGHT
TZOFFSETFROM:-0400
TZOFFSETTO:-0300
TZNAME:ADT
DTSTART:20230312T060000
END:DAYLIGHT
BEGIN:STANDARD
TZOFFSETFROM:-0300
TZOFFSETTO:-0400
TZNAME:AST
DTSTART:20231105T050000
END:STANDARD
BEGIN:DAYLIGHT
TZOFFSETFROM:-0400
TZOFFSETTO:-0300
TZNAME:ADT
DTSTART:20240310T060000
END:DAYLIGHT
BEGIN:STANDARD
TZOFFSETFROM:-0300
TZOFFSETTO:-0400
TZNAME:AST
DTSTART:20241103T050000
END:STANDARD
END:VTIMEZONE
BEGIN:VEVENT
DTSTART;TZID=America/Halifax:20230523T180000
DTEND;TZID=America/Halifax:20230523T190000
DTSTAMP:20260423T144228
CREATED:20241017T135806Z
LAST-MODIFIED:20241017T135814Z
UID:22737-1684864800-1684868400@kiraninc.org
SUMMARY:DV Speaker Series: Parent and Teen Relationships
DESCRIPTION:Zoom\nDuring Mental Health Awareness Month\, we will be hosting a virtual Speaker Series on healthy parent/teen relationships! We are excited …
URL:https://kiraninc.org/event/dv-speaker-series-parent-and-teen-relationships/
END:VEVENT
END:VCALENDAR