BEGIN:VCALENDAR
VERSION:2.0
PRODID:-//Kiran - ECPv6.15.20//NONSGML v1.0//EN
CALSCALE:GREGORIAN
METHOD:PUBLISH
X-WR-CALNAME:Kiran
X-ORIGINAL-URL:https://kiraninc.org
X-WR-CALDESC:Events for Kiran
REFRESH-INTERVAL;VALUE=DURATION:PT1H
X-Robots-Tag:noindex
X-PUBLISHED-TTL:PT1H
BEGIN:VTIMEZONE
TZID:America/Halifax
BEGIN:DAYLIGHT
TZOFFSETFROM:-0400
TZOFFSETTO:-0300
TZNAME:ADT
DTSTART:20240310T060000
END:DAYLIGHT
BEGIN:STANDARD
TZOFFSETFROM:-0300
TZOFFSETTO:-0400
TZNAME:AST
DTSTART:20241103T050000
END:STANDARD
BEGIN:DAYLIGHT
TZOFFSETFROM:-0400
TZOFFSETTO:-0300
TZNAME:ADT
DTSTART:20250309T060000
END:DAYLIGHT
BEGIN:STANDARD
TZOFFSETFROM:-0300
TZOFFSETTO:-0400
TZNAME:AST
DTSTART:20251102T050000
END:STANDARD
BEGIN:DAYLIGHT
TZOFFSETFROM:-0400
TZOFFSETTO:-0300
TZNAME:ADT
DTSTART:20260308T060000
END:DAYLIGHT
BEGIN:STANDARD
TZOFFSETFROM:-0300
TZOFFSETTO:-0400
TZNAME:AST
DTSTART:20261101T050000
END:STANDARD
END:VTIMEZONE
BEGIN:VEVENT
DTSTART;TZID=America/Halifax:20251007T193000
DTEND;TZID=America/Halifax:20251007T203000
DTSTAMP:20260423T033134
CREATED:20250925T155222Z
LAST-MODIFIED:20250925T175802Z
UID:25681-1759865400-1759869000@kiraninc.org
SUMMARY:Cary Fountain Lighting in Honor of DVAM
DESCRIPTION:The Town of Cary is lighting the town fountain purple for DVAM! Join Kiran and the Town of Cary as we honor survivors and those we have lost to domestic violence. Wear purple and stand in solidarity with us!
URL:https://kiraninc.org/event/cary-fountain-lighting-in-honor-of-dvam/
LOCATION:Downtown Cary Art Center\, 101 Dry Ave\, Cary\, NC\, 27511\, United States
CATEGORIES:Community Outreach
END:VEVENT
END:VCALENDAR